{
 "currentVersion": 10.81,
 "serviceDescription": "",
 "mapName": "Layers",
 "description": "",
 "copyrightText": "",
 "supportsDynamicLayers": false,
 "layers": [
  {
   "id": 0,
   "name": "orthos.LAND.R2006_10CM",
   "parentLayerId": -1,
   "defaultVisibility": true,
   "subLayerIds": null,
   "minScale": 0,
   "maxScale": 0,
   "type": "Raster Layer"
  },
  {
   "id": 1,
   "name": "City Boundary",
   "parentLayerId": -1,
   "defaultVisibility": true,
   "subLayerIds": null,
   "minScale": 0,
   "maxScale": 0,
   "type": "Feature Layer",
   "geometryType": "esriGeometryPolygon"
  }
 ],
 "tables": [],
 "spatialReference": {
  "wkid": 26911,
  "latestWkid": 26911
 },
 "singleFusedMapCache": true,
 "tileInfo": {
  "rows": 512,
  "cols": 512,
  "dpi": 96,
  "format": "MIXED",
  "compressionQuality": 60,
  "origin": {
   "x": -5120900,
   "y": 9998100
  },
  "spatialReference": {
   "wkid": 26911,
   "latestWkid": 26911
  },
  "lods": [
   {
    "level": 0,
    "resolution": 66.1459656252646,
    "scale": 250000
   },
   {
    "level": 1,
    "resolution": 26.458386250105836,
    "scale": 100000
   },
   {
    "level": 2,
    "resolution": 13.229193125052918,
    "scale": 50000
   },
   {
    "level": 3,
    "resolution": 6.614596562526459,
    "scale": 25000
   },
   {
    "level": 4,
    "resolution": 2.6458386250105836,
    "scale": 10000
   },
   {
    "level": 5,
    "resolution": 1.9843789687579376,
    "scale": 7500
   },
   {
    "level": 6,
    "resolution": 1.3229193125052918,
    "scale": 5000
   },
   {
    "level": 7,
    "resolution": 1.0583354500042335,
    "scale": 4000
   },
   {
    "level": 8,
    "resolution": 0.7937515875031751,
    "scale": 3000
   },
   {
    "level": 9,
    "resolution": 0.5291677250021167,
    "scale": 2000
   },
   {
    "level": 10,
    "resolution": 0.26458386250105836,
    "scale": 1000
   },
   {
    "level": 11,
    "resolution": 0.19843789687579377,
    "scale": 750
   },
   {
    "level": 12,
    "resolution": 0.13229193125052918,
    "scale": 500
   }
  ]
 },
 "initialExtent": {
  "xmin": 305288.0716830716,
  "ymin": 5529496.0080613615,
  "xmax": 342119.7647105888,
  "ymax": 5542896.156540885,
  "spatialReference": {
   "wkid": 26911,
   "latestWkid": 26911
  }
 },
 "fullExtent": {
  "xmin": 313600,
  "ymin": 5516557.735125,
  "xmax": 335884.2125000004,
  "ymax": 5546214.887499999,
  "spatialReference": {
   "wkid": 26911,
   "latestWkid": 26911
  }
 },
 "minScale": 250000,
 "maxScale": 500,
 "units": "esriMeters",
 "supportedImageFormatTypes": "PNG32,PNG24,PNG,JPG,DIB,TIFF,EMF,PS,PDF,GIF,SVG,SVGZ,BMP",
 "documentInfo": {
  "Title": "all_orthos",
  "Author": "nknezevi",
  "Comments": "",
  "Subject": "",
  "Category": "",
  "AntialiasingMode": "None",
  "TextAntialiasingMode": "Force",
  "Keywords": ""
 },
 "capabilities": "Map,Query,Data",
 "supportedQueryFormats": "JSON, geoJSON",
 "hasVersionedData": true,
 "exportTilesAllowed": false,
 "referenceScale": 0,
 "datumTransformations": [
  {
   "geoTransforms": [
    {
     "wkid": 108001,
     "latestWkid": 1241,
     "transformForward": true,
     "name": "NAD_1927_To_NAD_1983_NADCON"
    }
   ]
  },
  {
   "geoTransforms": [
    {
     "wkid": 108001,
     "latestWkid": 1241,
     "transformForward": false,
     "name": "NAD_1927_To_NAD_1983_NADCON"
    }
   ]
  }
 ],
 "supportsDatumTransformation": true,
 "maxRecordCount": 1000,
 "maxImageHeight": 4096,
 "maxImageWidth": 4096,
 "supportedExtensions": ""
}
